BEGIN:VCALENDAR
VERSION:2.0
PRODID:-//Comité de Quartier du Toulon - Périgueux - ECPv5.10.0//NONSGML v1.0//EN
CALSCALE:GREGORIAN
METHOD:PUBLISH
X-WR-CALNAME:Comité de Quartier du Toulon - Périgueux
X-ORIGINAL-URL:https://perigueux-letoulon.org
X-WR-CALDESC:évènements pour Comité de Quartier du Toulon - Périgueux
BEGIN:VTIMEZONE
TZID:Europe/Paris
BEGIN:DAYLIGHT
TZOFFSETFROM:+0100
TZOFFSETTO:+0200
TZNAME:CEST
DTSTART:20220327T010000
END:DAYLIGHT
BEGIN:STANDARD
TZOFFSETFROM:+0200
TZOFFSETTO:+0100
TZNAME:CET
DTSTART:20221030T010000
END:STANDARD
END:VTIMEZONE
BEGIN:VEVENT
DTSTART;TZID=Europe/Paris:20220205T193000
DTEND;TZID=Europe/Paris:20220206T000000
DTSTAMP:20260420T122014
CREATED:20211030T062155Z
LAST-MODIFIED:20220114T190152Z
UID:2505-1644089400-1644105600@perigueux-letoulon.org
SUMMARY:Repas dansant
DESCRIPTION:REPORTÉ A UNE DATE ULTÉRIEURE\nMalheureusement\, la situation sanitaire actuelle nous oblige à devoir reporter notre repas dansant.\nCette année\, le Comité de Quartier du Toulon organise son repas dansant annuel à la période de la Saint-Valentin qui en sera la thématique. \nComme depuis quelques années maintenant\, il sera animé par l’excellent Olivier Grimard et ses musiciens. \nLe tarif sera communiqué ultérieurement.
URL:https://perigueux-letoulon.org/event/repas-dansant/
LOCATION:Filature de l’Isle\, 15 chemin des feutres du Toulon\, Périgueux\, 24000\, France
ATTACH;FMTTYPE=image/jpeg:https://perigueux-letoulon.org/wp-content/uploads/2021/10/Repas-dansant-01.jpg
END:VEVENT
END:VCALENDAR