BEGIN:VCALENDAR
VERSION:2.0
PRODID:-//Comité de Quartier du Toulon - Périgueux - ECPv5.10.0//NONSGML v1.0//EN
CALSCALE:GREGORIAN
METHOD:PUBLISH
X-WR-CALNAME:Comité de Quartier du Toulon - Périgueux
X-ORIGINAL-URL:https://perigueux-letoulon.org
X-WR-CALDESC:évènements pour Comité de Quartier du Toulon - Périgueux
BEGIN:VTIMEZONE
TZID:Europe/Paris
BEGIN:DAYLIGHT
TZOFFSETFROM:+0100
TZOFFSETTO:+0200
TZNAME:CEST
DTSTART:20250330T010000
END:DAYLIGHT
BEGIN:STANDARD
TZOFFSETFROM:+0200
TZOFFSETTO:+0100
TZNAME:CET
DTSTART:20251026T010000
END:STANDARD
END:VTIMEZONE
BEGIN:VEVENT
DTSTART;TZID=Europe/Paris:20250707T080000
DTEND;TZID=Europe/Paris:20250707T190000
DTSTAMP:20260420T140228
CREATED:20250618T113809Z
LAST-MODIFIED:20250618T114348Z
UID:3969-1751875200-1751914800@perigueux-letoulon.org
SUMMARY:Sortie découverte au château des Milandes
DESCRIPTION:Dans le cadre de ses activités\, l’Amicale CNL des Locataires de Chamiers vous propose une sortie au château des Milandes  le dimanche 6 juillet 2025. \nHeure et lieu de départ : 8h00 à l’École élémentaire Eugène Le Roy – Rue Eugénie Cotton à  Chamiers. Retour vers 19h00\nParticipation financière : 12 € adultes/enfants incluant le transport + visite du château et du pac + spectacle des rapaces\, (paiement exigé au moment de l’inscription)\nRestauration du midi : restauration ou pique-nique sur place. \nInscriptions/renseignements : Mr Michel Ravé au 07 83 86 43 05 (Comité de Quartier du Toulon). \n\n\n\n\nCette sortie est organisée par l’Amicale CNL des Locataires de Chamiers en partenariat avec le Comité de Quartier du Toulon et le Comité Intercommunal du Fonds de Participation des Habitants (CIFPH). \n \n\n\n\n\n 
URL:https://perigueux-letoulon.org/event/sortie-decouverte-au-chateau-des-milandes/
CATEGORIES:Sortie
ATTACH;FMTTYPE=image/png:https://perigueux-letoulon.org/wp-content/uploads/2025/06/chateau_milandes.png
END:VEVENT
BEGIN:VEVENT
DTSTART;TZID=Europe/Paris:20250713T080000
DTEND;TZID=Europe/Paris:20250713T170000
DTSTAMP:20260420T140228
CREATED:20250713T081306Z
LAST-MODIFIED:20250713T081404Z
UID:3978-1752393600-1752426000@perigueux-letoulon.org
SUMMARY:Sortie Familiale au Jacquou Parc au Bugue
DESCRIPTION:Dans le cadre de ses activités\, l’Amicale CNL des Locataires de Chamiers vous propose une sortie au Jacquou Parc au Bugue le samedi 19 juillet 2025. \nHeure et lieu de départ : 8h45 à la salle des sports du Toulon\, et 9h00 à l’École élémentaire Eugène Le Roy – Rue Eugénie Cotton à  Chamiers.\nRetour : vers 19h00\nParticipation financière : 8 € adultes/enfants incluant le transport + entrée au parc (paiement exigé au moment de l’inscription)\nRestauration du midi : restauration ou pique-nique sur place. \nInscriptions/renseignements : Mr Michel Ravé au 07 83 86 43 05 (Comité de Quartier du Toulon). \n\n\n\n\nCette sortie est organisée par l’Amicale CNL des Locataires de Chamiers.
URL:https://perigueux-letoulon.org/event/sortie-familiale-au-jacquou-parc-au-bugue/
CATEGORIES:Sortie
ATTACH;FMTTYPE=image/jpeg:https://perigueux-letoulon.org/wp-content/uploads/2025/07/jacquou-parc-01.jpg
END:VEVENT
END:VCALENDAR