BEGIN:VCALENDAR
VERSION:2.0
PRODID:-//Comité de Quartier du Toulon - Périgueux - ECPv5.10.0//NONSGML v1.0//EN
CALSCALE:GREGORIAN
METHOD:PUBLISH
X-WR-CALNAME:Comité de Quartier du Toulon - Périgueux
X-ORIGINAL-URL:https://perigueux-letoulon.org
X-WR-CALDESC:évènements pour Comité de Quartier du Toulon - Périgueux
BEGIN:VTIMEZONE
TZID:Europe/Paris
BEGIN:DAYLIGHT
TZOFFSETFROM:+0100
TZOFFSETTO:+0200
TZNAME:CEST
DTSTART:20250330T010000
END:DAYLIGHT
BEGIN:STANDARD
TZOFFSETFROM:+0200
TZOFFSETTO:+0100
TZNAME:CET
DTSTART:20251026T010000
END:STANDARD
END:VTIMEZONE
BEGIN:VEVENT
DTSTART;TZID=Europe/Paris:20250201T180000
DTEND;TZID=Europe/Paris:20250201T200000
DTSTAMP:20260420T212029
CREATED:20250122T181104Z
LAST-MODIFIED:20250122T181234Z
UID:3863-1738432800-1738440000@perigueux-letoulon.org
SUMMARY:"Les 3 Fantastiques" - Spectacle Jeune Public
DESCRIPTION:« Les 3 Fantastiques » c’est quoi ?\nUne conférencière comédienne vient présenter 3 femmes qui ont vécu en Dordogne.\nAvec l’aide d’une costumière\, elle incarne ces 3 femmes.\nTantôt c’est Emma Reyes\, tantôt Jenny Sacerdote puis Jeanne Barret qui raconte sa vie\, tantôt c’est la conférencière qui reprend la parole pour faire des commentaires à la 3e personne\, comme un exercice d’admiration en cours de jeu.\nDes allers-retours entre le Je et le Elle\, leur présent et le nôtre ; autrement dit\, le passé et le présent. \nA partir de 6 ans | durée : 55 » \nPlus d’information : https://rouletabilletheatre.com/2024/03/theatre-et-expression-plastique-pour-un-choix-bien-eveille.html \nSuivi d’un pot convivial (contribution demandée : une boisson ou un gâteau de préférence « fait maison ») \n 
URL:https://perigueux-letoulon.org/event/les-3-fantastiques-spectacle-jeune-public/
LOCATION:Filature de l’Isle\, 15 chemin des feutres du Toulon\, Périgueux\, 24000\, France
CATEGORIES:animation,Théâtre
ATTACH;FMTTYPE=image/jpeg:https://perigueux-letoulon.org/wp-content/uploads/2025/01/Affiche-640.jpg
END:VEVENT
BEGIN:VEVENT
DTSTART;TZID=Europe/Paris:20250217T190000
DTEND;TZID=Europe/Paris:20250221T170000
DTSTAMP:20260420T212029
CREATED:20250218T190134Z
LAST-MODIFIED:20250218T190134Z
UID:3884-1739818800-1740157200@perigueux-letoulon.org
SUMMARY:Leonard de Vinci fait son Festival
DESCRIPTION:Du 17 au 21 février 2025\, le lycée professionnel Léonard de Vinci\, le Théâtre Grandeur Nature et la Compagnie Rouletabille Théâtre accueillent : \nDeux compagnies professionnelles pour quatre spectacles et sept représentations à La Filature de l’Isle. \nEntourés de professionnels et de leurs enseignants\, les élèves de l’établissement sont associés à l’organisation en fonction de leurs formations : les trois classes de baccalauréat professionnel Hygiène Propreté Stérilisation entretiennent les espaces ; une classe de C.A.P. Préparation et Service en Restauration collective nourrit les équipes techniques et artistiques\, soit près de 150 repas dans la semaine ; six élèves «techniciens en herbe» installent lumière-son et assurent les régies ; une classe de 2nde CAP Électrotechnique participe au montage de la salle. \nTous ces « organisateurs en herbe »\, ainsi que nombre de leurs camarades et quelques classes invitées des établissements voisins\, assistent aux spectacles dans le cadre de représentations en matinée.
URL:https://perigueux-letoulon.org/event/leonard-de-vinci-fait-son-festival/
ATTACH;FMTTYPE=image/jpeg:https://perigueux-letoulon.org/wp-content/uploads/2025/02/image-0214391-20250207-ob_c3a5cf_1.jpg
END:VEVENT
END:VCALENDAR